BEGIN:VCALENDAR
VERSION:2.0
PRODID:-//Foolish Media - ECPv5.0.0.2//NONSGML v1.0//EN
CALSCALE:GREGORIAN
METHOD:PUBLISH
X-WR-CALNAME:Foolish Media
X-ORIGINAL-URL:https://foolish.media
X-WR-CALDESC:Events for Foolish Media
BEGIN:VTIMEZONE
TZID:UTC
BEGIN:STANDARD
TZOFFSETFROM:+0000
TZOFFSETTO:+0000
TZNAME:UTC
DTSTART:20180101T000000
END:STANDARD
END:VTIMEZONE
BEGIN:VEVENT
DTSTART;TZID=UTC:20180125T120000
DTEND;TZID=UTC:20180205T170000
DTSTAMP:20260421T084952
CREATED:20180123T163226Z
LAST-MODIFIED:20180207T155128Z
UID:566-1516881600-1517850000@foolish.media
SUMMARY:Kickstarter Launch of Oh Cluck!
DESCRIPTION:It’s the official Kickstarter launch of Oh Cluck! \n
URL:https://foolish.media/event/kickstarter/
LOCATION:Kickstarter.com
CATEGORIES:Kickstarter
ATTACH;FMTTYPE=image/jpeg:https://foolish.media/wp-content/uploads/2018/01/PEATAH-wd.jpg
ORGANIZER;CN="Foolish%20Media":MAILTO:foolishmediallc@gmail.com
END:VEVENT
END:VCALENDAR